BEGIN:VCALENDAR
VERSION:2.0
PRODID:-//Squarespace Inc/Squarespace 6//v6//EN
BEGIN:VEVENT
UID:55fb6fa8e4b039f7eabfb900@squarespace.com
DTSTAMP:20150918T020854Z
DTSTART:20150918T230000Z
DTEND:20150920T010000Z
SUMMARY:Youth Group
END:VEVENT
END:VCALENDAR
